BEGIN:VCALENDAR
VERSION:2.0
PRODID:-//hacksw/handcal//NONSGML v1.0//EN
BEGIN:VEVENT
DTSTAMP:20260530T080000Z
DTSTART:20260530T080000Z
DTEND:20260530T080000Z
LOCATION:Bildungszentrum Mettenhof, Vaasastraße 43, Kiel, 24109, Deutschland
SUMMARY:Wahlkreismitgliederversammlung und Kreisparteitag
END:VEVENT
END:VCALENDAR
